BEGIN:VCALENDAR
VERSION:2.0
PRODID:spatie/icalendar-generator
DESCRIPTION:Events from Friends of Ella K. McClatchy Library
X-WR-CALDESC:Events from Friends of Ella K. McClatchy Library
REFRESH-INTERVAL;VALUE=DURATION:PT1440M
X-PUBLISHED-TTL:PT1440M
BEGIN:VTIMEZONE
TZID:America/Los_Angeles
BEGIN:STANDARD
DTSTART:20241103T020000Z
TZOFFSETFROM:-0700
TZOFFSETTO:-0800
END:STANDARD
BEGIN:DAYLIGHT
DTSTART:20250309T020000Z
TZOFFSETFROM:-0800
TZOFFSETTO:-0700
END:DAYLIGHT
BEGIN:STANDARD
DTSTART:20251102T020000Z
TZOFFSETFROM:-0700
TZOFFSETTO:-0800
END:STANDARD
END:VTIMEZONE
BEGIN:VTIMEZONE
TZID:UTC
BEGIN:STANDARD
DTSTART:20250727T234037Z
TZOFFSETFROM:+0000
TZOFFSETTO:+0000
END:STANDARD
END:VTIMEZONE
BEGIN:VEVENT
UID:23-17
DTSTAMP:20260423T234037Z
SUMMARY:Tai Chi 6/25 - 8/6 Wednesdays
LOCATION:
ORGANIZER;CN=bluehost:MAILTO:bluehost@lindasabella.com
DTSTART;TZID=America/Los_Angeles:20250702T103000
DTEND;TZID=America/Los_Angeles:20250702T113000
X-ALT-DESC;FMTTYPE=TEXT/HTML:
CATEGORIES:Special Event
URL;VALUE=URI:https://ellamcclatchylibrary.com/mc-events/tai-chi-6-25-8-6-w
 ednesdays-2/
METHOD:PUBLISH
END:VEVENT
END:VCALENDAR