BEGIN:VCALENDAR
VERSION:2.0
PRODID:spatie/icalendar-generator
DESCRIPTION:Events from Friends of Ella K. McClatchy Library
X-WR-CALDESC:Events from Friends of Ella K. McClatchy Library
REFRESH-INTERVAL;VALUE=DURATION:PT1440M
X-PUBLISHED-TTL:PT1440M
BEGIN:VTIMEZONE
TZID:America/Los_Angeles
BEGIN:STANDARD
DTSTART:20251102T020000Z
TZOFFSETFROM:-0700
TZOFFSETTO:-0800
END:STANDARD
BEGIN:DAYLIGHT
DTSTART:20260308T020000Z
TZOFFSETFROM:-0800
TZOFFSETTO:-0700
END:DAYLIGHT
END:VTIMEZONE
BEGIN:VTIMEZONE
TZID:UTC
BEGIN:STANDARD
DTSTART:20250727T215108Z
TZOFFSETFROM:+0000
TZOFFSETTO:+0000
END:STANDARD
END:VTIMEZONE
BEGIN:VEVENT
UID:45-25
DTSTAMP:20260423T215108Z
SUMMARY:Friends of McClatchy Board Meeting-Feb 2026
LOCATION:
ORGANIZER;CN=bluehost:MAILTO:bluehost@lindasabella.com
DTSTART;TZID=America/Los_Angeles:20260207T093000
DTEND;TZID=America/Los_Angeles:20260207T113000
X-ALT-DESC;FMTTYPE=TEXT/HTML:Board Meetings are held in the Community Room 
 at Ella K. McClatchy Library 2112 22nd Street\, Sacramento\, CA 95818
CATEGORIES:Board
URL;VALUE=URI:https://ellamcclatchylibrary.com/mc-events/friends-of-mcclatc
 hy-board-meeting-feb-2026/
METHOD:PUBLISH
END:VEVENT
END:VCALENDAR