BEGIN:VCALENDAR
VERSION:2.0
PRODID:spatie/icalendar-generator
DESCRIPTION:Events from Friends of Ella K. McClatchy Library
X-WR-CALDESC:Events from Friends of Ella K. McClatchy Library
REFRESH-INTERVAL;VALUE=DURATION:PT1440M
X-PUBLISHED-TTL:PT1440M
BEGIN:VTIMEZONE
TZID:America/Los_Angeles
BEGIN:DAYLIGHT
DTSTART:20250309T020000Z
TZOFFSETFROM:-0800
TZOFFSETTO:-0700
END:DAYLIGHT
BEGIN:STANDARD
DTSTART:20251102T020000Z
TZOFFSETFROM:-0700
TZOFFSETTO:-0800
END:STANDARD
END:VTIMEZONE
BEGIN:VTIMEZONE
TZID:UTC
BEGIN:STANDARD
DTSTART:20250727T220011Z
TZOFFSETFROM:+0000
TZOFFSETTO:+0000
END:STANDARD
END:VTIMEZONE
BEGIN:VEVENT
UID:38-11
DTSTAMP:20260423T220011Z
SUMMARY:One Flow Yoga 8/13 - 9/10
LOCATION:McClatchy Library 2112 22nd Street  Sacramento ca 95818
ORGANIZER;CN=bluehost:MAILTO:bluehost@lindasabella.com
RRULE:FREQ=WEEKLY;UNTIL=20250910T000000Z
DTSTART;TZID=America/Los_Angeles:20250820T103000
DTEND;TZID=America/Los_Angeles:20250820T113000
X-ALT-DESC;FMTTYPE=TEXT/HTML:Each Wednesday until 9/10/2025
CATEGORIES:Special Event
URL;VALUE=URI:https://ellamcclatchylibrary.com/mc-events/one-flow-yoga-8-13
 -9-10/?mc_id=38
METHOD:PUBLISH
END:VEVENT
END:VCALENDAR