BEGIN:VCALENDAR
VERSION:2.0
PRODID:spatie/icalendar-generator
DESCRIPTION:Events from Friends of Ella K. McClatchy Library
X-WR-CALDESC:Events from Friends of Ella K. McClatchy Library
REFRESH-INTERVAL;VALUE=DURATION:PT1440M
X-PUBLISHED-TTL:PT1440M
BEGIN:VTIMEZONE
TZID:America/Los_Angeles
BEGIN:STANDARD
DTSTART:20241103T020000Z
TZOFFSETFROM:-0700
TZOFFSETTO:-0800
END:STANDARD
BEGIN:DAYLIGHT
DTSTART:20250309T020000Z
TZOFFSETFROM:-0800
TZOFFSETTO:-0700
END:DAYLIGHT
BEGIN:STANDARD
DTSTART:20251102T020000Z
TZOFFSETFROM:-0700
TZOFFSETTO:-0800
END:STANDARD
END:VTIMEZONE
BEGIN:VTIMEZONE
TZID:UTC
BEGIN:STANDARD
DTSTART:20250727T215536Z
TZOFFSETFROM:+0000
TZOFFSETTO:+0000
END:STANDARD
END:VTIMEZONE
BEGIN:VEVENT
UID:12-10
DTSTAMP:20260423T215536Z
SUMMARY:Brown Sugar Bandages- Yoga and Sound Bath
LOCATION:McClatchy Library 2112 22nd Street  Sacramento ca 95818
ORGANIZER;CN=bluehost:MAILTO:bluehost@lindasabella.com
DTSTART;TZID=America/Los_Angeles:20250712T130000
DTEND;TZID=America/Los_Angeles:20250712T140000
X-ALT-DESC;FMTTYPE=TEXT/HTML:
CATEGORIES:Special Event
URL;VALUE=URI:https://ellamcclatchylibrary.com/mc-events/brown-sugar-bandag
 es-yoga-and-sound-bath/
METHOD:PUBLISH
END:VEVENT
END:VCALENDAR