BEGIN:VCALENDAR
VERSION:2.0
PRODID:spatie/icalendar-generator
DESCRIPTION:Events from Friends of Ella K. McClatchy Library
X-WR-CALDESC:Events from Friends of Ella K. McClatchy Library
REFRESH-INTERVAL;VALUE=DURATION:PT1440M
X-PUBLISHED-TTL:PT1440M
BEGIN:VTIMEZONE
TZID:America/Los_Angeles
BEGIN:STANDARD
DTSTART:20241103T020000Z
TZOFFSETFROM:-0700
TZOFFSETTO:-0800
END:STANDARD
BEGIN:DAYLIGHT
DTSTART:20250309T020000Z
TZOFFSETFROM:-0800
TZOFFSETTO:-0700
END:DAYLIGHT
BEGIN:STANDARD
DTSTART:20251102T020000Z
TZOFFSETFROM:-0700
TZOFFSETTO:-0800
END:STANDARD
END:VTIMEZONE
BEGIN:VTIMEZONE
TZID:UTC
BEGIN:STANDARD
DTSTART:20250727T193436Z
TZOFFSETFROM:+0000
TZOFFSETTO:+0000
END:STANDARD
END:VTIMEZONE
BEGIN:VEVENT
UID:11-9
DTSTAMP:20260423T193436Z
SUMMARY:Art by Janae-Adult Art Class
LOCATION:McClatchy Library 2112 22nd Street  Sacramento ca 95818
ORGANIZER;CN=bluehost:MAILTO:bluehost@lindasabella.com
DTSTART;TZID=America/Los_Angeles:20250613T140000
DTEND;TZID=America/Los_Angeles:20250613T150000
X-ALT-DESC;FMTTYPE=TEXT/HTML:One hour art class
CATEGORIES:Special Event
URL;VALUE=URI:https://ellamcclatchylibrary.com/mc-events/art-by-janae-adult
 -art-class/
METHOD:PUBLISH
END:VEVENT
END:VCALENDAR